View In:
ArcGIS JavaScript
ArcGIS Online Map Viewer
ArcGIS Earth
ArcMap
View Footprint In:
ArcGIS Online Map Viewer
Service Description: Orthophotographie de la Métropole Nice Côte d'Azur réalisée en 2017
Name: Photos/Orthophoto_2017
Description: Orthophotographie de la Métropole Nice Côte d'Azur réalisée en 2017
Single Fused Map Cache: false
Extent:
XMin: 1001649.8317539094
YMin: 6290927.6977595035
XMax: 1056314.2317539093
YMax: 6370507.897759504
Spatial Reference: 0
(0)
LatestVCSWkid(0)
Initial Extent:
XMin: 1001649.8317539094
YMin: 6290927.6977595035
XMax: 1056314.2317539093
YMax: 6370507.897759504
Spatial Reference: 0
(0)
LatestVCSWkid(0)
Full Extent:
XMin: 1001649.8317539094
YMin: 6290927.6977595035
XMax: 1056314.2317539093
YMax: 6370507.897759504
Spatial Reference: 0
(0)
LatestVCSWkid(0)
Pixel Size X: 0.19999999999999965
Pixel Size Y: 0.20000000000000046
Band Count: 4
Pixel Type: U8
RasterFunction Infos: {"rasterFunctionInfos": [{
"name": "None",
"description": "",
"help": ""
}]}
Mensuration Capabilities: Basic
Has Histograms: true
Has Colormap: false
Has Multi Dimensions : false
Rendering Rule:
Min Scale: 0
Max Scale: 0
Copyright Text: IGN-2017
Service Data Type: esriImageServiceDataTypeGeneric
Min Values: 0, 0, 0, 0
Max Values: 255, 255, 255, 255
Mean Values: 191.136345795, 194.15241014722, 185.50647752737, 94.312268424955
Standard Deviation Values: 87.977689094944, 83.269818426073, 93.902758282489, 123.10465752165
Object ID Field:
Fields:
None
Default Mosaic Method: Northwest
Allowed Mosaic Methods: NorthWest,Center,LockRaster,ByAttribute,Nadir,Viewpoint,Seamline,None
SortField:
SortValue: null
Mosaic Operator: First
Default Compression Quality: 75
Default Resampling Method: Bilinear
Max Record Count: 1000
Max Image Height: 4100
Max Image Width: 15000
Max Download Image Count: 20
Max Mosaic Image Count: 20
Allow Raster Function: true
Allow Copy: true
Allow Analysis: true
Allow Compute TiePoints: false
Supports Statistics: false
Supports Advanced Queries: false
Use StandardizedQueries: true
Raster Type Infos:
Name: Raster Dataset
Description: Prend en charge tous les jeux de données raster ArcGIS
Help:
Has Raster Attribute Table: false
Edit Fields Info: null
Ownership Based AccessControl For Rasters: null
Child Resources:
Info
Histograms
Statistics
Key Properties
Legend
Raster Function Infos
Supported Operations:
Export Image
Identify
Compute Histograms
Compute Statistics Histograms
Get Samples
Compute Class Statistics
Query Boundary
Compute Pixel Location
Compute Angles
Validate
Project