{
 "currentVersion": 10.91,
 "serviceDescription": "Orthophotographie de la Métropole Nice Côte d'Azur réalisée en 2017<\/span><\/font>",
 "name": "Photos/Orthophoto_2017",
 "description": "Orthophotographie de la Métropole Nice Côte d'Azur réalisée en 2017<\/span><\/font>",
 "extent": {
  "xmin": 1001649.8317539094,
  "ymin": 6290927.6977595035,
  "xmax": 1056314.2317539093,
  "ymax": 6370507.897759504,
  "spatialReference": {
   "wkt": "PROJCS[\"RGF93_Lambert_93\",GEOGCS[\"GCS_RESEAU_GEODESIQUE_FRANCAIS_1993\",DATUM[\"D_RGF_1993\",SPHEROID[\"GRS_1980\",6378137.0,298.257222101]],PRIMEM[\"Greenwich\",0.0],UNIT[\"Degree\",0.0174532925199433]],PROJECTION[\"Lambert_Conformal_Conic\"],PARAMETER[\"false_easting\",700000.0],PARAMETER[\"false_northing\",6600000.0],PARAMETER[\"central_meridian\",3.0],PARAMETER[\"standard_parallel_1\",44.0],PARAMETER[\"standard_parallel_2\",49.0],PARAMETER[\"scale_factor\",1.0],PARAMETER[\"latitude_of_origin\",46.5],UNIT[\"Meter\",1.0]]"
  }
 },
 "initialExtent": {
  "xmin": 1001649.8317539094,
  "ymin": 6290927.6977595035,
  "xmax": 1056314.2317539093,
  "ymax": 6370507.897759504,
  "spatialReference": {
   "wkt": "PROJCS[\"RGF93_Lambert_93\",GEOGCS[\"GCS_RESEAU_GEODESIQUE_FRANCAIS_1993\",DATUM[\"D_RGF_1993\",SPHEROID[\"GRS_1980\",6378137.0,298.257222101]],PRIMEM[\"Greenwich\",0.0],UNIT[\"Degree\",0.0174532925199433]],PROJECTION[\"Lambert_Conformal_Conic\"],PARAMETER[\"false_easting\",700000.0],PARAMETER[\"false_northing\",6600000.0],PARAMETER[\"central_meridian\",3.0],PARAMETER[\"standard_parallel_1\",44.0],PARAMETER[\"standard_parallel_2\",49.0],PARAMETER[\"scale_factor\",1.0],PARAMETER[\"latitude_of_origin\",46.5],UNIT[\"Meter\",1.0]]"
  }
 },
 "fullExtent": {
  "xmin": 1001649.8317539094,
  "ymin": 6290927.6977595035,
  "xmax": 1056314.2317539093,
  "ymax": 6370507.897759504,
  "spatialReference": {
   "wkt": "PROJCS[\"RGF93_Lambert_93\",GEOGCS[\"GCS_RESEAU_GEODESIQUE_FRANCAIS_1993\",DATUM[\"D_RGF_1993\",SPHEROID[\"GRS_1980\",6378137.0,298.257222101]],PRIMEM[\"Greenwich\",0.0],UNIT[\"Degree\",0.0174532925199433]],PROJECTION[\"Lambert_Conformal_Conic\"],PARAMETER[\"false_easting\",700000.0],PARAMETER[\"false_northing\",6600000.0],PARAMETER[\"central_meridian\",3.0],PARAMETER[\"standard_parallel_1\",44.0],PARAMETER[\"standard_parallel_2\",49.0],PARAMETER[\"scale_factor\",1.0],PARAMETER[\"latitude_of_origin\",46.5],UNIT[\"Meter\",1.0]]"
  }
 },
 "hasMultidimensions": false,
 "pixelSizeX": 0.19999999999999965,
 "pixelSizeY": 0.20000000000000046,
 "datasetFormat": "JP2",
 "uncompressedSize": 435020388488,
 "blockWidth": 2048,
 "blockHeight": 2048,
 "compressionType": "JPEG2000",
 "bandNames": [
  "Band_1",
  "Band_2",
  "Band_3",
  "Band_4"
 ],
 "allowCopy": true,
 "allowAnalysis": true,
 "bandCount": 4,
 "noDataValue": 255,
 "noDataValues": [
  255,
  255,
  255,
  0
 ],
 "pixelType": "U8",
 "minPixelSize": 0,
 "maxPixelSize": 0,
 "copyrightText": "IGN-2017",
 "serviceDataType": "esriImageServiceDataTypeGeneric",
 "serviceSourceType": "esriImageServiceSourceTypeDataset",
 "minValues": [
  0,
  0,
  0,
  0
 ],
 "maxValues": [
  255,
  255,
  255,
  255
 ],
 "meanValues": [
  191.136345795,
  194.15241014722,
  185.50647752737,
  94.312268424955
 ],
 "stdvValues": [
  87.977689094944,
  83.269818426073,
  93.902758282489,
  123.10465752165
 ],
 "objectIdField": "",
 "fields": [],
 "capabilities": "Image",
 "defaultMosaicMethod": "Northwest",
 "allowedMosaicMethods": "NorthWest,Center,LockRaster,ByAttribute,Nadir,Viewpoint,Seamline,None",
 "sortField": "",
 "sortValue": null,
 "sortAscending": true,
 "mosaicOperator": "First",
 "maxDownloadSizeLimit": 2048,
 "defaultCompressionQuality": 75,
 "defaultResamplingMethod": "Bilinear",
 "maxImageHeight": 4100,
 "maxImageWidth": 15000,
 "maxRecordCount": 1000,
 "maxDownloadImageCount": 20,
 "maxMosaicImageCount": 20,
 "allowRasterFunction": true,
 "rasterFunctionInfos": [
  {
   "name": "None",
   "description": "",
   "help": ""
  }
 ],
 "rasterTypeInfos": [
  {
   "name": "Raster Dataset",
   "description": "Prend en charge tous les jeux de données raster ArcGIS",
   "help": ""
  }
 ],
 "mensurationCapabilities": "Basic",
 "hasHistograms": true,
 "hasColormap": false,
 "hasRasterAttributeTable": false,
 "minScale": 0,
 "maxScale": 0,
 "exportTilesAllowed": false,
 "supportsStatistics": false,
 "supportsAdvancedQueries": false,
 "editFieldsInfo": null,
 "ownershipBasedAccessControlForRasters": null,
 "allowComputeTiePoints": false,
 "useStandardizedQueries": true,
 "advancedQueryCapabilities": {
  "useStandardizedQueries": true,
  "supportsStatistics": false,
  "supportsOrderBy": false,
  "supportsDistinct": false,
  "supportsPagination": false
 },
 "spatialReference": {
  "wkt": "PROJCS[\"RGF93_Lambert_93\",GEOGCS[\"GCS_RESEAU_GEODESIQUE_FRANCAIS_1993\",DATUM[\"D_RGF_1993\",SPHEROID[\"GRS_1980\",6378137.0,298.257222101]],PRIMEM[\"Greenwich\",0.0],UNIT[\"Degree\",0.0174532925199433]],PROJECTION[\"Lambert_Conformal_Conic\"],PARAMETER[\"false_easting\",700000.0],PARAMETER[\"false_northing\",6600000.0],PARAMETER[\"central_meridian\",3.0],PARAMETER[\"standard_parallel_1\",44.0],PARAMETER[\"standard_parallel_2\",49.0],PARAMETER[\"scale_factor\",1.0],PARAMETER[\"latitude_of_origin\",46.5],UNIT[\"Meter\",1.0]]"
 }
}
