View In:
ArcGIS JavaScript
ArcGIS Online Map Viewer
ArcGIS Earth
ArcMap
View Footprint In:
ArcGIS Online Map Viewer
Service Description: Photos/Orthophoto_2009
Name: Photos/Orthophoto_2009
Description:
Single Fused Map Cache: false
Extent:
XMin: 1002043.9999999998
YMin: 6291321.1999999955
XMax: 1055918.3999999997
YMax: 6370110.399999996
Spatial Reference: 0
(0)
LatestVCSWkid(0)
Initial Extent:
XMin: 1002043.9999999998
YMin: 6291321.1999999955
XMax: 1055918.3999999997
YMax: 6370110.399999996
Spatial Reference: 0
(0)
LatestVCSWkid(0)
Full Extent:
XMin: 1002043.9999999998
YMin: 6291321.1999999955
XMax: 1055918.3999999997
YMax: 6370110.399999996
Spatial Reference: 0
(0)
LatestVCSWkid(0)
Pixel Size X: 0.19999999999999965
Pixel Size Y: 0.20000000000000048
Band Count: 3
Pixel Type: S16
RasterFunction Infos: {"rasterFunctionInfos": [{
"name": "None",
"description": "",
"help": ""
}]}
Mensuration Capabilities: Basic
Has Histograms: true
Has Colormap: false
Has Multi Dimensions : false
Rendering Rule:
Min Scale: 0
Max Scale: 0
Copyright Text:
Service Data Type: esriImageServiceDataTypeGeneric
Min Values: 0, 0, 0
Max Values: 255, 255, 255
Mean Values: 40.34940587160349, 39.247156076050395, 33.59304724169461
Standard Deviation Values: 63.61345476871236, 60.6733167569692, 53.088525246396735
Object ID Field:
Fields:
None
Default Mosaic Method: Center
Allowed Mosaic Methods:
SortField:
SortValue: null
Mosaic Operator: First
Default Compression Quality: 75
Default Resampling Method: Bilinear
Max Record Count: null
Max Image Height: 4100
Max Image Width: 15000
Max Download Image Count: null
Max Mosaic Image Count: null
Allow Raster Function: true
Allow Copy: true
Allow Analysis: true
Allow Compute TiePoints: false
Supports Statistics: false
Supports Advanced Queries: false
Use StandardizedQueries: true
Raster Type Infos:
Name: Raster Dataset
Description: Prend en charge tous les jeux de données raster ArcGIS
Help:
Has Raster Attribute Table: false
Edit Fields Info: null
Ownership Based AccessControl For Rasters: null
Child Resources:
Info
Histograms
Statistics
Key Properties
Legend
Raster Function Infos
Supported Operations:
Export Image
Identify
Measure
Compute Histograms
Compute Statistics Histograms
Get Samples
Compute Class Statistics
Query Boundary
Compute Pixel Location
Compute Angles
Validate
Project