{
 "currentVersion": 10.91,
 "serviceDescription": "Photos/Orthophoto_2009",
 "name": "Photos/Orthophoto_2009",
 "description": "",
 "extent": {
  "xmin": 1002043.9999999998,
  "ymin": 6291321.1999999955,
  "xmax": 1055918.3999999997,
  "ymax": 6370110.399999996,
  "spatialReference": {
   "wkt": "PROJCS[\"RGF_1993_Lambert_Conformal_Conic\",GEOGCS[\"GCS_RGF_1993\",DATUM[\"D_RGF_1993\",SPHEROID[\"GRS_1980\",6378137.0,298.257222101]],PRIMEM[\"Greenwich\",0.0],UNIT[\"Degree\",0.0174532925199433]],PROJECTION[\"Lambert_Conformal_Conic\"],PARAMETER[\"False_Easting\",700000.0],PARAMETER[\"False_Northing\",6600000.0],PARAMETER[\"Central_Meridian\",3.0],PARAMETER[\"Standard_Parallel_1\",44.0],PARAMETER[\"Standard_Parallel_2\",49.0],PARAMETER[\"Latitude_Of_Origin\",46.5],UNIT[\"Meter\",1.0]]"
  }
 },
 "initialExtent": {
  "xmin": 1002043.9999999998,
  "ymin": 6291321.1999999955,
  "xmax": 1055918.3999999997,
  "ymax": 6370110.399999996,
  "spatialReference": {
   "wkt": "PROJCS[\"RGF_1993_Lambert_Conformal_Conic\",GEOGCS[\"GCS_RGF_1993\",DATUM[\"D_RGF_1993\",SPHEROID[\"GRS_1980\",6378137.0,298.257222101]],PRIMEM[\"Greenwich\",0.0],UNIT[\"Degree\",0.0174532925199433]],PROJECTION[\"Lambert_Conformal_Conic\"],PARAMETER[\"False_Easting\",700000.0],PARAMETER[\"False_Northing\",6600000.0],PARAMETER[\"Central_Meridian\",3.0],PARAMETER[\"Standard_Parallel_1\",44.0],PARAMETER[\"Standard_Parallel_2\",49.0],PARAMETER[\"Latitude_Of_Origin\",46.5],UNIT[\"Meter\",1.0]]"
  }
 },
 "fullExtent": {
  "xmin": 1002043.9999999998,
  "ymin": 6291321.1999999955,
  "xmax": 1055918.3999999997,
  "ymax": 6370110.399999996,
  "spatialReference": {
   "wkt": "PROJCS[\"RGF_1993_Lambert_Conformal_Conic\",GEOGCS[\"GCS_RGF_1993\",DATUM[\"D_RGF_1993\",SPHEROID[\"GRS_1980\",6378137.0,298.257222101]],PRIMEM[\"Greenwich\",0.0],UNIT[\"Degree\",0.0174532925199433]],PROJECTION[\"Lambert_Conformal_Conic\"],PARAMETER[\"False_Easting\",700000.0],PARAMETER[\"False_Northing\",6600000.0],PARAMETER[\"Central_Meridian\",3.0],PARAMETER[\"Standard_Parallel_1\",44.0],PARAMETER[\"Standard_Parallel_2\",49.0],PARAMETER[\"Latitude_Of_Origin\",46.5],UNIT[\"Meter\",1.0]]"
  }
 },
 "hasMultidimensions": false,
 "pixelSizeX": 0.19999999999999965,
 "pixelSizeY": 0.20000000000000048,
 "datasetFormat": "GRID Stack 7.x",
 "uncompressedSize": 636708131472,
 "blockWidth": 256,
 "blockHeight": 16,
 "compressionType": "None",
 "bandNames": [
  "nca_2009c1",
  "nca_2009c2",
  "nca_2009c3"
 ],
 "allowCopy": true,
 "allowAnalysis": true,
 "bandCount": 3,
 "noDataValue": 256,
 "noDataValues": [
  256,
  256,
  256
 ],
 "pixelType": "S16",
 "minPixelSize": 0,
 "maxPixelSize": 0,
 "copyrightText": "",
 "serviceDataType": "esriImageServiceDataTypeGeneric",
 "serviceSourceType": "esriImageServiceSourceTypeDataset",
 "minValues": [
  0,
  0,
  0
 ],
 "maxValues": [
  255,
  255,
  255
 ],
 "meanValues": [
  40.34940587160349,
  39.247156076050395,
  33.59304724169461
 ],
 "stdvValues": [
  63.61345476871236,
  60.6733167569692,
  53.088525246396735
 ],
 "objectIdField": "",
 "fields": [],
 "capabilities": "Image,Metadata,Mensuration",
 "defaultMosaicMethod": "Center",
 "allowedMosaicMethods": "",
 "sortField": "",
 "sortValue": null,
 "sortAscending": true,
 "mosaicOperator": "First",
 "defaultCompressionQuality": 75,
 "defaultResamplingMethod": "Bilinear",
 "maxImageHeight": 4100,
 "maxImageWidth": 15000,
 "allowRasterFunction": true,
 "rasterFunctionInfos": [
  {
   "name": "None",
   "description": "",
   "help": ""
  }
 ],
 "rasterTypeInfos": [
  {
   "name": "Raster Dataset",
   "description": "Prend en charge tous les jeux de données raster ArcGIS",
   "help": ""
  }
 ],
 "mensurationCapabilities": "Basic",
 "hasHistograms": true,
 "hasColormap": false,
 "hasRasterAttributeTable": false,
 "minScale": 0,
 "maxScale": 0,
 "exportTilesAllowed": false,
 "supportsStatistics": false,
 "supportsAdvancedQueries": false,
 "editFieldsInfo": null,
 "ownershipBasedAccessControlForRasters": null,
 "allowComputeTiePoints": false,
 "useStandardizedQueries": true,
 "advancedQueryCapabilities": {
  "useStandardizedQueries": true,
  "supportsStatistics": false,
  "supportsOrderBy": false,
  "supportsDistinct": false,
  "supportsPagination": false
 },
 "spatialReference": {
  "wkt": "PROJCS[\"RGF_1993_Lambert_Conformal_Conic\",GEOGCS[\"GCS_RGF_1993\",DATUM[\"D_RGF_1993\",SPHEROID[\"GRS_1980\",6378137.0,298.257222101]],PRIMEM[\"Greenwich\",0.0],UNIT[\"Degree\",0.0174532925199433]],PROJECTION[\"Lambert_Conformal_Conic\"],PARAMETER[\"False_Easting\",700000.0],PARAMETER[\"False_Northing\",6600000.0],PARAMETER[\"Central_Meridian\",3.0],PARAMETER[\"Standard_Parallel_1\",44.0],PARAMETER[\"Standard_Parallel_2\",49.0],PARAMETER[\"Latitude_Of_Origin\",46.5],UNIT[\"Meter\",1.0]]"
 }
}
