View In:
ArcGIS JavaScript
ArcGIS Online Map Viewer
ArcGIS Earth
ArcMap
View Footprint In:
ArcGIS Online Map Viewer
Service Description: Photos/Orthophoto_2005
Name: Photos/Orthophoto_2005
Description:
Single Fused Map Cache: false
Extent:
XMin: 1024999.925
YMin: 6290999.9750000015
XMax: 1056500.074999998
YMax: 6323999.975
Spatial Reference: 102110
(2154)
LatestVCSWkid(0)
Initial Extent:
XMin: 1024999.925
YMin: 6290999.9750000015
XMax: 1056500.074999998
YMax: 6323999.975
Spatial Reference: 102110
(2154)
LatestVCSWkid(0)
Full Extent:
XMin: 1024999.925
YMin: 6290999.9750000015
XMax: 1056500.074999998
YMax: 6323999.975
Spatial Reference: 102110
(2154)
LatestVCSWkid(0)
Pixel Size X: 0.1499999999999907
Pixel Size Y: 0.14999999999999153
Band Count: 3
Pixel Type: U8
RasterFunction Infos: {"rasterFunctionInfos": [{
"name": "None",
"description": "",
"help": ""
}]}
Mensuration Capabilities: Basic
Has Histograms: true
Has Colormap: false
Has Multi Dimensions : false
Rendering Rule:
Min Scale: 0
Max Scale: 0
Copyright Text:
Service Data Type: esriImageServiceDataTypeRGB
Min Values: 0, 0, 0
Max Values: 255, 255, 255
Mean Values: 84.861968029563, 88.673487192013, 80.980750744031
Standard Deviation Values: 93.082536472457, 93.341599206973, 88.928986366627
Object ID Field:
Fields:
None
Default Mosaic Method: Northwest
Allowed Mosaic Methods: NorthWest,Center,LockRaster,ByAttribute,Nadir,Viewpoint,Seamline,None
SortField:
SortValue: null
Mosaic Operator: First
Default Compression Quality: 75
Default Resampling Method: Bilinear
Max Record Count: 1000
Max Image Height: 4100
Max Image Width: 15000
Max Download Image Count: 20
Max Mosaic Image Count: 20
Allow Raster Function: true
Allow Copy: true
Allow Analysis: true
Allow Compute TiePoints: false
Supports Statistics: false
Supports Advanced Queries: false
Use StandardizedQueries: true
Raster Type Infos:
Name: Raster Dataset
Description: Prend en charge tous les jeux de données raster ArcGIS
Help:
Has Raster Attribute Table: false
Edit Fields Info: null
Ownership Based AccessControl For Rasters: null
Child Resources:
Info
Histograms
Statistics
Key Properties
Legend
Raster Function Infos
Supported Operations:
Export Image
Query
Identify
Measure
Compute Histograms
Compute Statistics Histograms
Get Samples
Compute Class Statistics
Query Boundary
Compute Pixel Location
Compute Angles
Validate
Project