{
 "currentVersion": 10.91,
 "serviceDescription": "Photos/Orthophoto_2005",
 "name": "Photos/Orthophoto_2005",
 "description": "",
 "extent": {
  "xmin": 1024999.925,
  "ymin": 6290999.9750000015,
  "xmax": 1056500.074999998,
  "ymax": 6323999.975,
  "spatialReference": {
   "wkid": 102110,
   "latestWkid": 2154
  }
 },
 "initialExtent": {
  "xmin": 1024999.925,
  "ymin": 6290999.9750000015,
  "xmax": 1056500.074999998,
  "ymax": 6323999.975,
  "spatialReference": {
   "wkid": 102110,
   "latestWkid": 2154
  }
 },
 "fullExtent": {
  "xmin": 1024999.925,
  "ymin": 6290999.9750000015,
  "xmax": 1056500.074999998,
  "ymax": 6323999.975,
  "spatialReference": {
   "wkid": 102110,
   "latestWkid": 2154
  }
 },
 "hasMultidimensions": false,
 "pixelSizeX": 0.1499999999999907,
 "pixelSizeY": 0.14999999999999153,
 "datasetFormat": "JP2",
 "uncompressedSize": 138600660000,
 "blockWidth": 2048,
 "blockHeight": 2048,
 "compressionType": "JPEG2000",
 "bandNames": [
  "Band_1",
  "Band_2",
  "Band_3"
 ],
 "allowCopy": true,
 "allowAnalysis": true,
 "bandCount": 3,
 "noDataValue": 256,
 "noDataValues": [
  256,
  256,
  256
 ],
 "pixelType": "U8",
 "minPixelSize": 0,
 "maxPixelSize": 0,
 "copyrightText": "",
 "serviceDataType": "esriImageServiceDataTypeRGB",
 "serviceSourceType": "esriImageServiceSourceTypeDataset",
 "minValues": [
  0,
  0,
  0
 ],
 "maxValues": [
  255,
  255,
  255
 ],
 "meanValues": [
  84.861968029563,
  88.673487192013,
  80.980750744031
 ],
 "stdvValues": [
  93.082536472457,
  93.341599206973,
  88.928986366627
 ],
 "objectIdField": "",
 "fields": [],
 "capabilities": "Image,Metadata,Mensuration,Catalog",
 "defaultMosaicMethod": "Northwest",
 "allowedMosaicMethods": "NorthWest,Center,LockRaster,ByAttribute,Nadir,Viewpoint,Seamline,None",
 "sortField": "",
 "sortValue": null,
 "sortAscending": true,
 "mosaicOperator": "First",
 "maxDownloadSizeLimit": 2048,
 "defaultCompressionQuality": 75,
 "defaultResamplingMethod": "Bilinear",
 "maxImageHeight": 4100,
 "maxImageWidth": 15000,
 "maxRecordCount": 1000,
 "maxDownloadImageCount": 20,
 "maxMosaicImageCount": 20,
 "allowRasterFunction": true,
 "rasterFunctionInfos": [
  {
   "name": "None",
   "description": "",
   "help": ""
  }
 ],
 "rasterTypeInfos": [
  {
   "name": "Raster Dataset",
   "description": "Prend en charge tous les jeux de données raster ArcGIS",
   "help": ""
  }
 ],
 "mensurationCapabilities": "Basic",
 "hasHistograms": true,
 "hasColormap": false,
 "hasRasterAttributeTable": false,
 "minScale": 0,
 "maxScale": 0,
 "exportTilesAllowed": false,
 "supportsStatistics": false,
 "supportsAdvancedQueries": false,
 "editFieldsInfo": null,
 "ownershipBasedAccessControlForRasters": null,
 "allowComputeTiePoints": false,
 "useStandardizedQueries": true,
 "advancedQueryCapabilities": {
  "useStandardizedQueries": true,
  "supportsStatistics": false,
  "supportsOrderBy": false,
  "supportsDistinct": false,
  "supportsPagination": false
 },
 "spatialReference": {
  "wkid": 102110,
  "latestWkid": 2154
 }
}
