View In:
ArcGIS JavaScript
ArcGIS Online Map Viewer
ArcGIS Earth
ArcMap
View Footprint In:
ArcGIS Online Map Viewer
Service Description: Photos/Orthophoto_2023
Name: Photos/Orthophoto_2023
Description:
Single Fused Map Cache: false
Extent:
XMin: 1001543.9962059956
YMin: 6290822.397096919
XMax: 1056418.1962059955
YMax: 6370610.197096919
Spatial Reference: 0
(0)
LatestVCSWkid(0)
Initial Extent:
XMin: 1001543.9962059956
YMin: 6290822.397096919
XMax: 1056418.1962059955
YMax: 6370610.197096919
Spatial Reference: 0
(0)
LatestVCSWkid(0)
Full Extent:
XMin: 1001543.9962059956
YMin: 6290822.397096919
XMax: 1056418.1962059955
YMax: 6370610.197096919
Spatial Reference: 0
(0)
LatestVCSWkid(0)
Pixel Size X: 0.19999999999999982
Pixel Size Y: 0.19999999999999954
Band Count: 4
Pixel Type: U8
RasterFunction Infos: {"rasterFunctionInfos": [{
"name": "None",
"description": "",
"help": ""
}]}
Mensuration Capabilities: Basic
Has Histograms: true
Has Colormap: false
Has Multi Dimensions : false
Rendering Rule:
Min Scale: 0
Max Scale: 0
Copyright Text:
Service Data Type: esriImageServiceDataTypeGeneric
Min Values: 0, 0, 0, 0
Max Values: 255, 255, 255, 255
Mean Values: 190.75196648612, 192.19069064746, 191.89614575712, 96.41053304028
Standard Deviation Values: 86.75635529836, 84.323079333364, 83.632453933919, 123.65122617747
Object ID Field:
Fields:
None
Default Mosaic Method: Center
Allowed Mosaic Methods:
SortField:
SortValue: null
Mosaic Operator: First
Default Compression Quality: 75
Default Resampling Method: Bilinear
Max Record Count: null
Max Image Height: 4100
Max Image Width: 15000
Max Download Image Count: null
Max Mosaic Image Count: null
Allow Raster Function: true
Allow Copy: true
Allow Analysis: true
Allow Compute TiePoints: false
Supports Statistics: false
Supports Advanced Queries: false
Use StandardizedQueries: true
Raster Type Infos:
Name: Raster Dataset
Description: Prend en charge tous les jeux de données raster ArcGIS
Help:
Has Raster Attribute Table: false
Edit Fields Info: null
Ownership Based AccessControl For Rasters: null
Child Resources:
Info
Histograms
Statistics
Key Properties
Legend
Raster Function Infos
Supported Operations:
Export Image
Identify
Measure
Compute Histograms
Compute Statistics Histograms
Get Samples
Compute Class Statistics
Query Boundary
Compute Pixel Location
Compute Angles
Validate
Project