View In:
ArcGIS JavaScript
ArcGIS Online Map Viewer
ArcGIS Earth
ArcMap
View Footprint In:
ArcGIS Online Map Viewer
Service Description: Photos/Orthophoto_1999
Name: Photos/Orthophoto_1999
Description:
Single Fused Map Cache: false
Extent:
XMin: 1002043.849769802
YMin: 6291321.019831585
XMax: 1055918.3497698018
YMax: 6370110.519831585
Spatial Reference: 0
(0)
LatestVCSWkid(0)
Initial Extent:
XMin: 1002043.849769802
YMin: 6291321.019831585
XMax: 1055918.3497698018
YMax: 6370110.519831585
Spatial Reference: 0
(0)
LatestVCSWkid(0)
Full Extent:
XMin: 1002043.849769802
YMin: 6291321.019831585
XMax: 1055918.3497698018
YMax: 6370110.519831585
Spatial Reference: 0
(0)
LatestVCSWkid(0)
Pixel Size X: 0.49999999999999895
Pixel Size Y: 0.5
Band Count: 3
Pixel Type: U16
RasterFunction Infos: {"rasterFunctionInfos": [{
"name": "None",
"description": "",
"help": ""
}]}
Mensuration Capabilities: Basic
Has Histograms: true
Has Colormap: false
Has Multi Dimensions : false
Rendering Rule:
Min Scale: 0
Max Scale: 0
Copyright Text:
Service Data Type: esriImageServiceDataTypeGeneric
Min Values: 0, 0, 0
Max Values: 258, 258, 258
Mean Values: 102.90252584013, 99.428367891822, 89.77225403662
Standard Deviation Values: 44.978936310871, 44.016097789102, 42.764871997912
Object ID Field:
Fields:
None
Default Mosaic Method: Center
Allowed Mosaic Methods:
SortField:
SortValue: null
Mosaic Operator: First
Default Compression Quality: 75
Default Resampling Method: Bilinear
Max Record Count: null
Max Image Height: 4100
Max Image Width: 15000
Max Download Image Count: null
Max Mosaic Image Count: null
Allow Raster Function: true
Allow Copy: true
Allow Analysis: true
Allow Compute TiePoints: false
Supports Statistics: false
Supports Advanced Queries: false
Use StandardizedQueries: true
Raster Type Infos:
Name: Raster Dataset
Description: Prend en charge tous les jeux de données raster ArcGIS
Help:
Has Raster Attribute Table: false
Edit Fields Info: null
Ownership Based AccessControl For Rasters: null
Child Resources:
Info
Histograms
Statistics
Key Properties
Legend
Raster Function Infos
Supported Operations:
Export Image
Identify
Measure
Compute Histograms
Compute Statistics Histograms
Get Samples
Compute Class Statistics
Query Boundary
Compute Pixel Location
Compute Angles
Validate
Project