View In:
ArcGIS JavaScript
ArcGIS Online Map Viewer
ArcGIS Earth
ArcGIS Pro
Service Description: Vue aérienne : orthophoto haute résolution récente sur la Métropole Nice Côte d'Azur
Map Name: Vue_Aerienne
Legend
All Layers and Tables
Layers:
Description: Vue aérienne : orthophoto haute résolution récente sur la Métropole Nice Côte d'Azur
Service Item Id: 64e89faad3384986952915bbc793287c
Copyright Text: Métropole Nice Côte d'Azur
Spatial Reference:
102100
(3857)
LatestVCSWkid(0)
Single Fused Map Cache: true
Tile Info:
- Height: 256.0
- Width: 256.0
- DPI: 96.0
-
Levels of Detail: 24
-
Level ID: 1
[ Start Tile, End Tile ]
- Resolution: 78271.5169639999
- Scale: 2.95828763795777E8
-
Level ID: 2
[ Start Tile, End Tile ]
- Resolution: 39135.7584820001
- Scale: 1.47914381897889E8
-
Level ID: 3
[ Start Tile, End Tile ]
- Resolution: 19567.8792409999
- Scale: 7.3957190948944E7
-
Level ID: 4
[ Start Tile, End Tile ]
- Resolution: 9783.93962049996
- Scale: 3.6978595474472E7
-
Level ID: 5
[ Start Tile, End Tile ]
- Resolution: 4891.96981024998
- Scale: 1.8489297737236E7
- Format: MIXED
- Compression Quality: 75.0
- Origin: X: -2.0037508342787E7
Y: 2.0037508342787E7
- Spatial Reference: 102100
(3857)
LatestVCSWkid(0)
Storage Info:
- Storage Format: esriMapCacheStorageModeCompactV2
- Packet Size: 128
Initial Extent:
XMin: 527353.5361756113
YMin: 5233813.560943905
XMax: 1026315.7684619385
YMax: 5702635.804621987
Spatial Reference: 102100
(0)
LatestVCSWkid(0)
Full Extent:
XMin: 713584.885992082
YMin: 5364142.057436285
XMax: 881548.1597975366
YMax: 5525376.656702756
Spatial Reference: 102100
(0)
LatestVCSWkid(0)
Units: esriMeters
Supported Image Format Types: PNG32,PNG24,PNG,JPG,DIB,TIFF,EMF,PS,PDF,GIF,SVG,SVGZ,BMP
Document Info:
Title: Vue_Aerienne
Author:
Comments: Vue aérienne : orthophoto haute résolution récente sur la Métropole Nice Côte d'Azur
Subject: Vue aérienne
Category:
Keywords: orthophoto,ortho,vue aérienne,WGS84
AntialiasingMode: Fast
TextAntialiasingMode: Force
Supports Dynamic Layers: false
Resampling: false
MaxRecordCount: 2000
MaxImageHeight: 4096
MaxImageWidth: 4096
Supported Query Formats: JSON, geoJSON, PBF
Supports Query Data Elements: true
Min Scale: 577790.554289
Max Scale: 564.248588
Supports Datum Transformation: true
Child Resources:
Info
Supported Operations:
Export Map
QueryLegends
Return Updates