View In:
ArcGIS JavaScript
ArcGIS Online Map Viewer
ArcGIS Earth
ArcMap
ArcGIS Pro
View Footprint In:
ArcGIS Online Map Viewer
Service Description: Cadastre de la Métropole Nice Côte d'Azur.
Map Name: Cadastre_WGS84
Legend
All Layers and Tables
Layers:
Description: Cadastre de la Métropole Nice Côte d'Azur.
Service Item Id: 5dc4cb0391b44cbe9d5eab5cea5553eb
Copyright Text: Métropole Nice Côte d'Azur, DGFIP 2025, CNIG
Spatial Reference:
102100
(3857)
LatestVCSWkid(0)
Single Fused Map Cache: true
Tile Info:
- Height: 256.0
- Width: 256.0
- DPI: 96.0
-
Levels of Detail: 24
-
Level ID: 1
[ Start Tile, End Tile ]
- Resolution: 78271.5169639999
- Scale: 2.95828763795777E8
-
Level ID: 2
[ Start Tile, End Tile ]
- Resolution: 39135.7584820001
- Scale: 1.47914381897889E8
-
Level ID: 3
[ Start Tile, End Tile ]
- Resolution: 19567.8792409999
- Scale: 7.3957190948944E7
-
Level ID: 4
[ Start Tile, End Tile ]
- Resolution: 9783.93962049996
- Scale: 3.6978595474472E7
-
Level ID: 5
[ Start Tile, End Tile ]
- Resolution: 4891.96981024998
- Scale: 1.8489297737236E7
- Format: PNG
- Compression Quality: 0.0
- Origin: X: -2.0037508342787E7
Y: 2.0037508342787E7
- Spatial Reference: 102100
(3857)
LatestVCSWkid(0)
Storage Info:
- Storage Format: esriMapCacheStorageModeCompactV2
- Packet Size: 128
Initial Extent:
XMin: 635433.4280003461
YMin: 5264040.608309677
XMax: 984396.259259342
YMax: 5584013.514922157
Spatial Reference: 102100
(0)
LatestVCSWkid(0)
Full Extent:
XMin: 713584.885992082
YMin: 5364142.057436285
XMax: 881548.1597975366
YMax: 5525376.656702756
Spatial Reference: 102100
(0)
LatestVCSWkid(0)
Units: esriMeters
Supported Image Format Types: PNG32,PNG24,PNG,JPG,DIB,TIFF,EMF,PS,PDF,GIF,SVG,SVGZ,BMP
Document Info:
Title: Cadastre_WGS84
Author:
Comments: Cadastre de la Métropole Nice Côte d'Azur.
Subject: Cadastre de la Métropole Nice Côte d'Azur
Category:
Keywords: limites de la Métropole,limites communales,lieux-dits,réseau hydrographique,détails topographiques,bâtiments,subdivisions fiscales,parcelles,sections.
AntialiasingMode: None
TextAntialiasingMode: Force
Supports Dynamic Layers: false
MaxRecordCount: 2000
MaxImageHeight: 4096
MaxImageWidth: 4096
Supported Query Formats: JSON, geoJSON, PBF
Supports Query Data Elements: true
Min Scale: 577790.554289
Max Scale: 141.062147
Supports Datum Transformation: true
Child Resources:
Info
Supported Operations:
Export Map
QueryLegends
Return Updates