View In:
ArcGIS JavaScript
ArcGIS Online Map Viewer
ArcGIS Earth
ArcMap
ArcGIS Pro
View Footprint In:
ArcGIS Online Map Viewer
Service Description: Fond de plan du territoire de la Métropole Nice Côte d'Azur
Map Name: Fond de plan WGS84
Legend
All Layers and Tables
Layers:
Description: Fond de plan du territoire de la Métropole Nice Côte d'Azur
Service Item Id: debc93ae62834b078fe4708da0f9b40b
Copyright Text: Métropole Nice Côte d'Azur
Spatial Reference:
102100
(3857)
LatestVCSWkid(0)
Single Fused Map Cache: true
Tile Info:
- Height: 256
- Width: 256
- DPI: 96
-
Levels of Detail: 24
-
Level ID: 1
[ Start Tile, End Tile ]
- Resolution: 78271.5169639999
- Scale: 2.95828763795777E8
-
Level ID: 2
[ Start Tile, End Tile ]
- Resolution: 39135.7584820001
- Scale: 1.47914381897889E8
-
Level ID: 3
[ Start Tile, End Tile ]
- Resolution: 19567.8792409999
- Scale: 7.3957190948944E7
-
Level ID: 4
[ Start Tile, End Tile ]
- Resolution: 9783.93962049996
- Scale: 3.6978595474472E7
-
Level ID: 5
[ Start Tile, End Tile ]
- Resolution: 4891.96981024998
- Scale: 1.8489297737236E7
- Format: PNG
- Compression Quality: 0.0
- Origin: X: -2.0037508342787E7
Y: 2.0037508342787E7
- Spatial Reference: 102100
(3857)
LatestVCSWkid(0)
Storage Info:
- Storage Format: esriMapCacheStorageModeCompactV2
- Packet Size: 128
Initial Extent:
XMin: 705827.392175586
YMin: 5365705.001364516
XMax: 891621.9262102968
YMax: 5528865.6673759315
Spatial Reference: 102100
(0)
LatestVCSWkid(0)
Full Extent:
XMin: 732358.117648523
YMin: 5365705.001364517
XMax: 865091.2007373598
YMax: 5528865.6673759315
Spatial Reference: 102100
(0)
LatestVCSWkid(0)
Units: esriMeters
Supported Image Format Types: PNG32,PNG24,PNG,JPG,DIB,TIFF,EMF,PS,PDF,GIF,SVG,SVGZ,BMP
Document Info:
Title: Fond de plan WGS84
Author:
Comments: Fond de plan du territoire de la Métropole Nice Côte d'Azur
Subject: Fond de plan du territoire de la Métropole Nice Côte d'Azur
Category:
Keywords: Fond de plan
AntialiasingMode: Normal
TextAntialiasingMode: Force
Supports Dynamic Layers: false
MaxRecordCount: 2000
MaxImageHeight: 4096
MaxImageWidth: 4096
Supported Query Formats: JSON, geoJSON, PBF
Supports Query Data Elements: true
Min Scale: 577790.554289
Max Scale: 141.062147
Supports Datum Transformation: true
Child Resources:
Info
Supported Operations:
Export Map
QueryLegends
Return Updates