View In:
ArcGIS JavaScript
ArcGIS Online Map Viewer
ArcGIS Earth
ArcMap
ArcGIS Pro
View Footprint In:
ArcGIS Online Map Viewer
Service Description: <div style='text-align:Left;font-size:12pt'><div><p><span>Orthophoto_2019_WGS84</span><span> </span><span>de la Métropole Nice Côte d'Azur</span></p></div></div>
Map Name: Arriere_Plan_Neutre_WGS84
Legend
All Layers and Tables
Layers:
Description: <DIV STYLE="text-align:Left;font-size:12pt"><DIV><P><SPAN>Arriere plan neutre du territoire de la Métropole Nice Côte d'Azur</SPAN></P></DIV></DIV>
Service Item Id: 6443174e6d2941f08920fb18e5b2c953
Copyright Text: Métropole Nice Côte d'Azur
Spatial Reference:
102100
(3857)
LatestVCSWkid(0)
Single Fused Map Cache: true
Tile Info:
- Height: 256
- Width: 256
- DPI: 96
-
Levels of Detail: 24
-
Level ID: 0
[ Start Tile, End Tile ]
- Resolution: 156543.03392800014
- Scale: 5.91657527591555E8
-
Level ID: 1
[ Start Tile, End Tile ]
- Resolution: 78271.51696399994
- Scale: 2.95828763795777E8
-
Level ID: 2
[ Start Tile, End Tile ]
- Resolution: 39135.75848200009
- Scale: 1.47914381897889E8
-
Level ID: 3
[ Start Tile, End Tile ]
- Resolution: 19567.87924099992
- Scale: 7.3957190948944E7
-
Level ID: 4
[ Start Tile, End Tile ]
- Resolution: 9783.93962049996
- Scale: 3.6978595474472E7
-
Level ID: 5
[ Start Tile, End Tile ]
- Resolution: 4891.96981024998
- Scale: 1.8489297737236E7
- Format: PNG
- Compression Quality: 0.0
- Origin: X: -2.0037508342787E7
Y: 2.0037508342787E7
- Spatial Reference: 102100
(3857)
LatestVCSWkid(0)
Storage Info:
- Storage Format: esriMapCacheStorageModeCompactV2
- Packet Size: 128
Initial Extent:
XMin: 736215.7055155218
YMin: 5388123.739555114
XMax: 861233.6128703605
YMax: 5505723.653989374
Spatial Reference: 102100
(0)
LatestVCSWkid(0)
Full Extent:
XMin: 732358.117648523
YMin: 5365705.001364514
XMax: 865091.2007373598
YMax: 5528865.6673759315
Spatial Reference: 102100
(0)
LatestVCSWkid(0)
Units: esriMeters
Supported Image Format Types: PNG32,PNG24,PNG,JPG,DIB,TIFF,EMF,PS,PDF,GIF,SVG,SVGZ,BMP
Document Info:
Title: Arriere_Plan_Neutre_WGS84
Author:
Comments: <DIV STYLE="text-align:Left;font-size:12pt"><DIV><P><SPAN>Arriere plan neutre du territoire de la Métropole Nice Côte d'Azur</SPAN></P></DIV></DIV>
Subject: Arriere plan neutre du territoire de la Métropole Nice Côte d'Azur
Category:
Keywords: Arriere_Plan_Neutre_WGS84
AntialiasingMode: None
TextAntialiasingMode: Normal
Supports Dynamic Layers: false
MaxRecordCount: 2000
MaxImageHeight: 4096
MaxImageWidth: 4096
Supported Query Formats: JSON, geoJSON, PBF
Supports Query Data Elements: true
Min Scale: 577790.554289
Max Scale: 141.062147
Supports Datum Transformation: true
Child Resources:
Info
Supported Operations:
Export Map
QueryLegends
Return Updates