{
 "currentVersion": 10.91,
 "serviceDescription": "Territoires/MNT_2019",
 "name": "Territoires/MNT_2019",
 "description": "",
 "extent": {
  "xmin": 1002000,
  "ymin": 6290999.5,
  "xmax": 1056000,
  "ymax": 6370168.5,
  "spatialReference": {
   "wkt": "PROJCS[\"RGF_1993_Lambert_93\",GEOGCS[\"GCS_RGF_1993\",DATUM[\"D_RGF_1993\",SPHEROID[\"GRS_1980\",6378137.0,298.257222101]],PRIMEM[\"Greenwich\",0.0],UNIT[\"Degree\",0.0174532925199433]],PROJECTION[\"Lambert_Conformal_Conic\"],PARAMETER[\"False_Easting\",700000.0],PARAMETER[\"False_Northing\",6600000.0],PARAMETER[\"Central_Meridian\",3.0],PARAMETER[\"Standard_Parallel_1\",44.0],PARAMETER[\"Standard_Parallel_2\",49.0],PARAMETER[\"Latitude_Of_Origin\",46.5],UNIT[\"Meter\",1.0]],VERTCS[\"unknown\",VDATUM[\"unknown\"],PARAMETER[\"Vertical_Shift\",0.0],PARAMETER[\"Direction\",1.0],UNIT[\"Meter\",1.0]]"
  }
 },
 "initialExtent": {
  "xmin": 1002000,
  "ymin": 6290999.5,
  "xmax": 1056000,
  "ymax": 6370168.5,
  "spatialReference": {
   "wkt": "PROJCS[\"RGF_1993_Lambert_93\",GEOGCS[\"GCS_RGF_1993\",DATUM[\"D_RGF_1993\",SPHEROID[\"GRS_1980\",6378137.0,298.257222101]],PRIMEM[\"Greenwich\",0.0],UNIT[\"Degree\",0.0174532925199433]],PROJECTION[\"Lambert_Conformal_Conic\"],PARAMETER[\"False_Easting\",700000.0],PARAMETER[\"False_Northing\",6600000.0],PARAMETER[\"Central_Meridian\",3.0],PARAMETER[\"Standard_Parallel_1\",44.0],PARAMETER[\"Standard_Parallel_2\",49.0],PARAMETER[\"Latitude_Of_Origin\",46.5],UNIT[\"Meter\",1.0]],VERTCS[\"unknown\",VDATUM[\"unknown\"],PARAMETER[\"Vertical_Shift\",0.0],PARAMETER[\"Direction\",1.0],UNIT[\"Meter\",1.0]]"
  }
 },
 "fullExtent": {
  "xmin": 1002000,
  "ymin": 6290999.5,
  "xmax": 1056000,
  "ymax": 6370168.5,
  "spatialReference": {
   "wkt": "PROJCS[\"RGF_1993_Lambert_93\",GEOGCS[\"GCS_RGF_1993\",DATUM[\"D_RGF_1993\",SPHEROID[\"GRS_1980\",6378137.0,298.257222101]],PRIMEM[\"Greenwich\",0.0],UNIT[\"Degree\",0.0174532925199433]],PROJECTION[\"Lambert_Conformal_Conic\"],PARAMETER[\"False_Easting\",700000.0],PARAMETER[\"False_Northing\",6600000.0],PARAMETER[\"Central_Meridian\",3.0],PARAMETER[\"Standard_Parallel_1\",44.0],PARAMETER[\"Standard_Parallel_2\",49.0],PARAMETER[\"Latitude_Of_Origin\",46.5],UNIT[\"Meter\",1.0]],VERTCS[\"unknown\",VDATUM[\"unknown\"],PARAMETER[\"Vertical_Shift\",0.0],PARAMETER[\"Direction\",1.0],UNIT[\"Meter\",1.0]]"
  }
 },
 "heightModelInfo": {
  "heightModel": "gravity_related_height",
  "vertCRS": "unknown",
  "heightUnit": "mètre"
 },
 "hasMultidimensions": false,
 "pixelSizeX": 1,
 "pixelSizeY": 1,
 "datasetFormat": "TIFF",
 "uncompressedSize": 17100504000,
 "blockWidth": 54000,
 "blockHeight": 1,
 "compressionType": "LZW",
 "bandNames": [
  "Band_1"
 ],
 "allowCopy": true,
 "allowAnalysis": true,
 "bandCount": 1,
 "noDataValue": -99,
 "noDataValues": [
  -99
 ],
 "pixelType": "F32",
 "minPixelSize": 0,
 "maxPixelSize": 0,
 "copyrightText": "",
 "serviceDataType": "esriImageServiceDataTypeGeneric",
 "serviceSourceType": "esriImageServiceSourceTypeDataset",
 "minValues": [],
 "maxValues": [],
 "meanValues": [],
 "stdvValues": [],
 "objectIdField": "",
 "fields": [],
 "capabilities": "Image,Metadata,Mensuration",
 "defaultMosaicMethod": "Center",
 "allowedMosaicMethods": "",
 "sortField": "",
 "sortValue": null,
 "sortAscending": true,
 "mosaicOperator": "First",
 "defaultCompressionQuality": 75,
 "defaultResamplingMethod": "Bilinear",
 "maxImageHeight": 4100,
 "maxImageWidth": 15000,
 "allowRasterFunction": true,
 "rasterFunctionInfos": [
  {
   "name": "None",
   "description": "",
   "help": ""
  }
 ],
 "rasterTypeInfos": [
  {
   "name": "Raster Dataset",
   "description": "Prend en charge tous les jeux de données raster ArcGIS",
   "help": ""
  }
 ],
 "mensurationCapabilities": "Basic",
 "hasHistograms": false,
 "hasColormap": false,
 "hasRasterAttributeTable": false,
 "minScale": 0,
 "maxScale": 0,
 "exportTilesAllowed": false,
 "supportsStatistics": false,
 "supportsAdvancedQueries": false,
 "editFieldsInfo": null,
 "ownershipBasedAccessControlForRasters": null,
 "allowComputeTiePoints": false,
 "useStandardizedQueries": true,
 "advancedQueryCapabilities": {
  "useStandardizedQueries": true,
  "supportsStatistics": false,
  "supportsOrderBy": false,
  "supportsDistinct": false,
  "supportsPagination": false
 },
 "spatialReference": {
  "wkt": "PROJCS[\"RGF_1993_Lambert_93\",GEOGCS[\"GCS_RGF_1993\",DATUM[\"D_RGF_1993\",SPHEROID[\"GRS_1980\",6378137.0,298.257222101]],PRIMEM[\"Greenwich\",0.0],UNIT[\"Degree\",0.0174532925199433]],PROJECTION[\"Lambert_Conformal_Conic\"],PARAMETER[\"False_Easting\",700000.0],PARAMETER[\"False_Northing\",6600000.0],PARAMETER[\"Central_Meridian\",3.0],PARAMETER[\"Standard_Parallel_1\",44.0],PARAMETER[\"Standard_Parallel_2\",49.0],PARAMETER[\"Latitude_Of_Origin\",46.5],UNIT[\"Meter\",1.0]],VERTCS[\"unknown\",VDATUM[\"unknown\"],PARAMETER[\"Vertical_Shift\",0.0],PARAMETER[\"Direction\",1.0],UNIT[\"Meter\",1.0]]"
 }
}
