{
 "currentVersion": 10.91,
 "serviceDescription": "Photos/Orthophoto_2020",
 "name": "Photos/Orthophoto_2020",
 "description": "",
 "extent": {
  "xmin": 1001543.9962060004,
  "ymin": 6290820.89954018,
  "xmax": 1056417.9962060004,
  "ymax": 6370609.49954018,
  "spatialReference": {
   "wkt": "PROJCS[\"RGF93_Lambert_93\",GEOGCS[\"GCS_RESEAU_GEODESIQUE_FRANCAIS_1993\",DATUM[\"D_RGF_1993\",SPHEROID[\"GRS_1980\",6378137.0,298.257222101]],PRIMEM[\"Greenwich\",0.0],UNIT[\"Degree\",0.0174532925199433]],PROJECTION[\"Lambert_Conformal_Conic\"],PARAMETER[\"false_easting\",700000.0],PARAMETER[\"false_northing\",6600000.0],PARAMETER[\"central_meridian\",3.0],PARAMETER[\"standard_parallel_1\",44.0],PARAMETER[\"standard_parallel_2\",49.0],PARAMETER[\"scale_factor\",1.0],PARAMETER[\"latitude_of_origin\",46.5],UNIT[\"Meter\",1.0]]"
  }
 },
 "initialExtent": {
  "xmin": 1001543.9962060004,
  "ymin": 6290820.89954018,
  "xmax": 1056417.9962060004,
  "ymax": 6370609.49954018,
  "spatialReference": {
   "wkt": "PROJCS[\"RGF93_Lambert_93\",GEOGCS[\"GCS_RESEAU_GEODESIQUE_FRANCAIS_1993\",DATUM[\"D_RGF_1993\",SPHEROID[\"GRS_1980\",6378137.0,298.257222101]],PRIMEM[\"Greenwich\",0.0],UNIT[\"Degree\",0.0174532925199433]],PROJECTION[\"Lambert_Conformal_Conic\"],PARAMETER[\"false_easting\",700000.0],PARAMETER[\"false_northing\",6600000.0],PARAMETER[\"central_meridian\",3.0],PARAMETER[\"standard_parallel_1\",44.0],PARAMETER[\"standard_parallel_2\",49.0],PARAMETER[\"scale_factor\",1.0],PARAMETER[\"latitude_of_origin\",46.5],UNIT[\"Meter\",1.0]]"
  }
 },
 "fullExtent": {
  "xmin": 1001543.9962060004,
  "ymin": 6290820.89954018,
  "xmax": 1056417.9962060004,
  "ymax": 6370609.49954018,
  "spatialReference": {
   "wkt": "PROJCS[\"RGF93_Lambert_93\",GEOGCS[\"GCS_RESEAU_GEODESIQUE_FRANCAIS_1993\",DATUM[\"D_RGF_1993\",SPHEROID[\"GRS_1980\",6378137.0,298.257222101]],PRIMEM[\"Greenwich\",0.0],UNIT[\"Degree\",0.0174532925199433]],PROJECTION[\"Lambert_Conformal_Conic\"],PARAMETER[\"false_easting\",700000.0],PARAMETER[\"false_northing\",6600000.0],PARAMETER[\"central_meridian\",3.0],PARAMETER[\"standard_parallel_1\",44.0],PARAMETER[\"standard_parallel_2\",49.0],PARAMETER[\"scale_factor\",1.0],PARAMETER[\"latitude_of_origin\",46.5],UNIT[\"Meter\",1.0]]"
  }
 },
 "hasMultidimensions": false,
 "pixelSizeX": 0.2,
 "pixelSizeY": 0.19999999999999907,
 "datasetFormat": "JP2",
 "uncompressedSize": 437831963640,
 "blockWidth": 2048,
 "blockHeight": 2048,
 "compressionType": "JPEG2000",
 "bandNames": [
  "Band_1",
  "Band_2",
  "Band_3",
  "Band_4"
 ],
 "allowCopy": true,
 "allowAnalysis": true,
 "bandCount": 4,
 "noDataValue": 255,
 "noDataValues": [
  255,
  255,
  255,
  0
 ],
 "pixelType": "U8",
 "minPixelSize": 0,
 "maxPixelSize": 0,
 "copyrightText": "",
 "serviceDataType": "esriImageServiceDataTypeGeneric",
 "serviceSourceType": "esriImageServiceSourceTypeDataset",
 "minValues": [
  0,
  0,
  0,
  0
 ],
 "maxValues": [
  254,
  254,
  254,
  255
 ],
 "meanValues": [
  103.30307233603,
  108.49808805763,
  99.381603995125,
  96.391215350254
 ],
 "stdvValues": [
  41.25635129601,
  37.292828669617,
  37.281983545811,
  123.64636935698
 ],
 "objectIdField": "",
 "fields": [],
 "capabilities": "Mensuration,Image,Metadata",
 "defaultMosaicMethod": "Center",
 "allowedMosaicMethods": "",
 "sortField": "",
 "sortValue": null,
 "sortAscending": true,
 "mosaicOperator": "First",
 "defaultCompressionQuality": 75,
 "defaultResamplingMethod": "Bilinear",
 "maxImageHeight": 4100,
 "maxImageWidth": 15000,
 "allowRasterFunction": true,
 "rasterFunctionInfos": [
  {
   "name": "None",
   "description": "",
   "help": ""
  }
 ],
 "rasterTypeInfos": [
  {
   "name": "Raster Dataset",
   "description": "Prend en charge tous les jeux de données raster ArcGIS",
   "help": ""
  }
 ],
 "mensurationCapabilities": "Basic",
 "hasHistograms": true,
 "hasColormap": false,
 "hasRasterAttributeTable": false,
 "minScale": 0,
 "maxScale": 0,
 "exportTilesAllowed": false,
 "supportsStatistics": false,
 "supportsAdvancedQueries": false,
 "editFieldsInfo": null,
 "ownershipBasedAccessControlForRasters": null,
 "allowComputeTiePoints": false,
 "useStandardizedQueries": true,
 "advancedQueryCapabilities": {
  "useStandardizedQueries": true,
  "supportsStatistics": false,
  "supportsOrderBy": false,
  "supportsDistinct": false,
  "supportsPagination": false
 },
 "spatialReference": {
  "wkt": "PROJCS[\"RGF93_Lambert_93\",GEOGCS[\"GCS_RESEAU_GEODESIQUE_FRANCAIS_1993\",DATUM[\"D_RGF_1993\",SPHEROID[\"GRS_1980\",6378137.0,298.257222101]],PRIMEM[\"Greenwich\",0.0],UNIT[\"Degree\",0.0174532925199433]],PROJECTION[\"Lambert_Conformal_Conic\"],PARAMETER[\"false_easting\",700000.0],PARAMETER[\"false_northing\",6600000.0],PARAMETER[\"central_meridian\",3.0],PARAMETER[\"standard_parallel_1\",44.0],PARAMETER[\"standard_parallel_2\",49.0],PARAMETER[\"scale_factor\",1.0],PARAMETER[\"latitude_of_origin\",46.5],UNIT[\"Meter\",1.0]]"
 }
}
