{
 "currentVersion": 10.91,
 "serviceDescription": "Photos/Orthophoto_2012",
 "name": "Photos/Orthophoto_2012",
 "description": "",
 "extent": {
  "xmin": 1002043.5,
  "ymin": 6291321,
  "xmax": 1055918.5,
  "ymax": 6370110.5,
  "spatialReference": {
   "wkt": "PROJCS[\"Geographic_Coordinate_System_Lambert_Conformal_Conic\",GEOGCS[\"GCS_Geographic_Coordinate_System\",DATUM[\"D_GRS_1980\",SPHEROID[\"GRS_1980\",6378137.0,298.257222101]],PRIMEM[\"Greenwich\",0.0],UNIT[\"Degree\",0.0174532925199433]],PROJECTION[\"Lambert_Conformal_Conic\"],PARAMETER[\"false_easting\",700000.0],PARAMETER[\"false_northing\",6600000.0],PARAMETER[\"central_meridian\",3.0],PARAMETER[\"standard_parallel_1\",44.0],PARAMETER[\"standard_parallel_2\",49.0],PARAMETER[\"scale_factor\",1.0],PARAMETER[\"latitude_of_origin\",46.5],UNIT[\"Meter\",1.0]]"
  }
 },
 "initialExtent": {
  "xmin": 1002043.5,
  "ymin": 6291321,
  "xmax": 1055918.5,
  "ymax": 6370110.5,
  "spatialReference": {
   "wkt": "PROJCS[\"Geographic_Coordinate_System_Lambert_Conformal_Conic\",GEOGCS[\"GCS_Geographic_Coordinate_System\",DATUM[\"D_GRS_1980\",SPHEROID[\"GRS_1980\",6378137.0,298.257222101]],PRIMEM[\"Greenwich\",0.0],UNIT[\"Degree\",0.0174532925199433]],PROJECTION[\"Lambert_Conformal_Conic\"],PARAMETER[\"false_easting\",700000.0],PARAMETER[\"false_northing\",6600000.0],PARAMETER[\"central_meridian\",3.0],PARAMETER[\"standard_parallel_1\",44.0],PARAMETER[\"standard_parallel_2\",49.0],PARAMETER[\"scale_factor\",1.0],PARAMETER[\"latitude_of_origin\",46.5],UNIT[\"Meter\",1.0]]"
  }
 },
 "fullExtent": {
  "xmin": 1002043.5,
  "ymin": 6291321,
  "xmax": 1055918.5,
  "ymax": 6370110.5,
  "spatialReference": {
   "wkt": "PROJCS[\"Geographic_Coordinate_System_Lambert_Conformal_Conic\",GEOGCS[\"GCS_Geographic_Coordinate_System\",DATUM[\"D_GRS_1980\",SPHEROID[\"GRS_1980\",6378137.0,298.257222101]],PRIMEM[\"Greenwich\",0.0],UNIT[\"Degree\",0.0174532925199433]],PROJECTION[\"Lambert_Conformal_Conic\"],PARAMETER[\"false_easting\",700000.0],PARAMETER[\"false_northing\",6600000.0],PARAMETER[\"central_meridian\",3.0],PARAMETER[\"standard_parallel_1\",44.0],PARAMETER[\"standard_parallel_2\",49.0],PARAMETER[\"scale_factor\",1.0],PARAMETER[\"latitude_of_origin\",46.5],UNIT[\"Meter\",1.0]]"
  }
 },
 "hasMultidimensions": false,
 "pixelSizeX": 0.5,
 "pixelSizeY": 0.5,
 "datasetFormat": "JP2",
 "uncompressedSize": 101874823500,
 "blockWidth": 2048,
 "blockHeight": 2048,
 "compressionType": "JPEG2000",
 "bandNames": [
  "Band_1",
  "Band_2",
  "Band_3"
 ],
 "allowCopy": true,
 "allowAnalysis": true,
 "bandCount": 3,
 "noDataValue": 256,
 "noDataValues": [
  256,
  256,
  256
 ],
 "pixelType": "U16",
 "minPixelSize": 0,
 "maxPixelSize": 0,
 "copyrightText": "",
 "serviceDataType": "esriImageServiceDataTypeGeneric",
 "serviceSourceType": "esriImageServiceSourceTypeDataset",
 "minValues": [
  0,
  0,
  0
 ],
 "maxValues": [
  258,
  277,
  276
 ],
 "meanValues": [
  95.808794679821,
  108.61705013607,
  89.176963709347
 ],
 "stdvValues": [
  61.079097590576,
  49.420063678081,
  44.432353885957
 ],
 "objectIdField": "",
 "fields": [],
 "capabilities": "Image,Metadata,Mensuration",
 "defaultMosaicMethod": "Center",
 "allowedMosaicMethods": "",
 "sortField": "",
 "sortValue": null,
 "sortAscending": true,
 "mosaicOperator": "First",
 "defaultCompressionQuality": 75,
 "defaultResamplingMethod": "Bilinear",
 "maxImageHeight": 4100,
 "maxImageWidth": 15000,
 "allowRasterFunction": true,
 "rasterFunctionInfos": [
  {
   "name": "None",
   "description": "",
   "help": ""
  }
 ],
 "rasterTypeInfos": [
  {
   "name": "Raster Dataset",
   "description": "Prend en charge tous les jeux de données raster ArcGIS",
   "help": ""
  }
 ],
 "mensurationCapabilities": "Basic",
 "hasHistograms": true,
 "hasColormap": false,
 "hasRasterAttributeTable": false,
 "minScale": 0,
 "maxScale": 0,
 "exportTilesAllowed": false,
 "supportsStatistics": false,
 "supportsAdvancedQueries": false,
 "editFieldsInfo": null,
 "ownershipBasedAccessControlForRasters": null,
 "allowComputeTiePoints": false,
 "useStandardizedQueries": true,
 "advancedQueryCapabilities": {
  "useStandardizedQueries": true,
  "supportsStatistics": false,
  "supportsOrderBy": false,
  "supportsDistinct": false,
  "supportsPagination": false
 },
 "spatialReference": {
  "wkt": "PROJCS[\"Geographic_Coordinate_System_Lambert_Conformal_Conic\",GEOGCS[\"GCS_Geographic_Coordinate_System\",DATUM[\"D_GRS_1980\",SPHEROID[\"GRS_1980\",6378137.0,298.257222101]],PRIMEM[\"Greenwich\",0.0],UNIT[\"Degree\",0.0174532925199433]],PROJECTION[\"Lambert_Conformal_Conic\"],PARAMETER[\"false_easting\",700000.0],PARAMETER[\"false_northing\",6600000.0],PARAMETER[\"central_meridian\",3.0],PARAMETER[\"standard_parallel_1\",44.0],PARAMETER[\"standard_parallel_2\",49.0],PARAMETER[\"scale_factor\",1.0],PARAMETER[\"latitude_of_origin\",46.5],UNIT[\"Meter\",1.0]]"
 }
}
