{
 "currentVersion": 10.91,
 "serviceDescription": "Photos/Orthophoto_2004",
 "name": "Photos/Orthophoto_2004",
 "description": "",
 "extent": {
  "xmin": 1002043.9999999999,
  "ymin": 6291320.499999997,
  "xmax": 1055919,
  "ymax": 6370110.499999997,
  "spatialReference": {
   "wkid": 102110,
   "latestWkid": 2154
  }
 },
 "initialExtent": {
  "xmin": 1002043.9999999999,
  "ymin": 6291320.499999997,
  "xmax": 1055919,
  "ymax": 6370110.499999997,
  "spatialReference": {
   "wkid": 102110,
   "latestWkid": 2154
  }
 },
 "fullExtent": {
  "xmin": 1002043.9999999999,
  "ymin": 6291320.499999997,
  "xmax": 1055919,
  "ymax": 6370110.499999997,
  "spatialReference": {
   "wkid": 102110,
   "latestWkid": 2154
  }
 },
 "hasMultidimensions": false,
 "pixelSizeX": 0.5000000000000011,
 "pixelSizeY": 0.5,
 "datasetFormat": "JP2",
 "uncompressedSize": 101875470000,
 "blockWidth": 2048,
 "blockHeight": 2048,
 "compressionType": "JPEG2000",
 "bandNames": [
  "Band_1",
  "Band_2",
  "Band_3"
 ],
 "allowCopy": true,
 "allowAnalysis": true,
 "bandCount": 3,
 "noDataValue": 256,
 "noDataValues": [
  256,
  256,
  256
 ],
 "pixelType": "S16",
 "minPixelSize": 0,
 "maxPixelSize": 0,
 "copyrightText": "",
 "serviceDataType": "esriImageServiceDataTypeGeneric",
 "serviceSourceType": "esriImageServiceSourceTypeDataset",
 "minValues": [
  -2,
  -2,
  -2
 ],
 "maxValues": [
  258,
  258,
  258
 ],
 "meanValues": [
  104.14682432402,
  108.46979865998,
  94.419370149463
 ],
 "stdvValues": [
  44.887442771152,
  44.897926278754,
  47.92536336922
 ],
 "objectIdField": "",
 "fields": [],
 "capabilities": "Image,Metadata,Mensuration",
 "defaultMosaicMethod": "Center",
 "allowedMosaicMethods": "",
 "sortField": "",
 "sortValue": null,
 "sortAscending": true,
 "mosaicOperator": "First",
 "defaultCompressionQuality": 75,
 "defaultResamplingMethod": "Bilinear",
 "maxImageHeight": 4100,
 "maxImageWidth": 15000,
 "allowRasterFunction": true,
 "rasterFunctionInfos": [
  {
   "name": "None",
   "description": "",
   "help": ""
  }
 ],
 "rasterTypeInfos": [
  {
   "name": "Raster Dataset",
   "description": "Prend en charge tous les jeux de données raster ArcGIS",
   "help": ""
  }
 ],
 "mensurationCapabilities": "Basic",
 "hasHistograms": true,
 "hasColormap": false,
 "hasRasterAttributeTable": false,
 "minScale": 0,
 "maxScale": 0,
 "exportTilesAllowed": false,
 "supportsStatistics": false,
 "supportsAdvancedQueries": false,
 "editFieldsInfo": null,
 "ownershipBasedAccessControlForRasters": null,
 "allowComputeTiePoints": false,
 "useStandardizedQueries": true,
 "advancedQueryCapabilities": {
  "useStandardizedQueries": true,
  "supportsStatistics": false,
  "supportsOrderBy": false,
  "supportsDistinct": false,
  "supportsPagination": false
 },
 "spatialReference": {
  "wkid": 102110,
  "latestWkid": 2154
 }
}
