{ "currentVersion": 11.3, "cimVersion": "3.3.0", "serviceDescription": "
Ombrage<\/SPAN><\/P><\/DIV>",
"mapName": "Ombrage",
"description": " Ombrage<\/SPAN><\/P><\/DIV>",
"copyrightText": "Métropole Nice Côte d'Azur",
"supportsDynamicLayers": false,
"layers": [
{
"id": 0,
"name": "Ombrage_MNCA",
"parentLayerId": -1,
"defaultVisibility": true,
"subLayerIds": null,
"minScale": 0,
"maxScale": 0,
"type": "Raster Layer",
"supportsDynamicLegends": true
},
{
"id": 1,
"name": "emprise_alpesmaritimes_trou",
"parentLayerId": -1,
"defaultVisibility": true,
"subLayerIds": null,
"minScale": 0,
"maxScale": 0,
"type": "Feature Layer",
"geometryType": "esriGeometryPolygon",
"supportsDynamicLegends": true
},
{
"id": 2,
"name": "Ombrage_06",
"parentLayerId": -1,
"defaultVisibility": true,
"subLayerIds": null,
"minScale": 0,
"maxScale": 0,
"type": "Raster Layer",
"supportsDynamicLegends": true
}
],
"tables": [],
"spatialReference": {
"wkid": 102110,
"latestWkid": 2154,
"vcsWkid": 5720,
"latestVcsWkid": 5720,
"xyTolerance": 0.001,
"zTolerance": 0.001,
"mTolerance": 0.001,
"falseX": -35597500,
"falseY": -23641900,
"xyUnits": 10000,
"falseZ": -100000,
"zUnits": 10000,
"falseM": -100000,
"mUnits": 10000
},
"singleFusedMapCache": true,
"tileInfo": {
"rows": 512,
"cols": 512,
"dpi": 96,
"format": "PNG32",
"compressionQuality": 0,
"origin": {
"x": -35597500,
"y": 48953100
},
"spatialReference": {
"wkid": 102110,
"latestWkid": 2154,
"vcsWkid": 5720,
"latestVcsWkid": 5720,
"xyTolerance": 0.001,
"zTolerance": 0.001,
"mTolerance": 0.001,
"falseX": -35597500,
"falseY": -23641900,
"xyUnits": 10000,
"falseZ": -100000,
"zUnits": 10000,
"falseM": -100000,
"mUnits": 10000
},
"lods": [
{
"level": 0,
"resolution": 270.93387520108377,
"scale": 1024000
},
{
"level": 1,
"resolution": 135.46693760054188,
"scale": 512000
},
{
"level": 2,
"resolution": 67.73346880027094,
"scale": 256000
},
{
"level": 3,
"resolution": 33.86673440013547,
"scale": 128000
},
{
"level": 4,
"resolution": 16.933367200067735,
"scale": 64000
},
{
"level": 5,
"resolution": 8.466683600033868,
"scale": 32000
},
{
"level": 6,
"resolution": 4.233341800016934,
"scale": 16000
},
{
"level": 7,
"resolution": 2.116670900008467,
"scale": 8000
},
{
"level": 8,
"resolution": 1.0583354500042335,
"scale": 4000
},
{
"level": 9,
"resolution": 0.5291677250021167,
"scale": 2000
},
{
"level": 10,
"resolution": 0.26458386250105836,
"scale": 1000
},
{
"level": 11,
"resolution": 0.13229193125052918,
"scale": 500
},
{
"level": 12,
"resolution": 0.06614596562526459,
"scale": 250
}
]
},
"storageInfo": {
"storageFormat": "esriMapCacheStorageModeCompactV2",
"packetSize": 128
},
"initialExtent": {
"xmin": 995374.7309613511,
"ymin": 6262191.230097149,
"xmax": 1117022.5064028124,
"ymax": 6396990.116397146,
"spatialReference": {
"wkid": 102110,
"latestWkid": 2154,
"vcsWkid": 5720,
"latestVcsWkid": 5720,
"xyTolerance": 0.001,
"zTolerance": 0.001,
"mTolerance": 0.001,
"falseX": -35597500,
"falseY": -23641900,
"xyUnits": 10000,
"falseZ": -100000,
"zUnits": 10000,
"falseM": -100000,
"mUnits": 10000
}
},
"fullExtent": {
"xmin": 966403.2238999978,
"ymin": 6251001.361400001,
"xmax": 1100182.5231000036,
"ymax": 6385800.247699998,
"spatialReference": {
"wkid": 102110,
"latestWkid": 2154,
"vcsWkid": 5720,
"latestVcsWkid": 5720,
"xyTolerance": 0.001,
"zTolerance": 0.001,
"mTolerance": 0.001,
"falseX": -35597500,
"falseY": -23641900,
"xyUnits": 10000,
"falseZ": -100000,
"zUnits": 10000,
"falseM": -100000,
"mUnits": 10000
}
},
"datesInUnknownTimezone": false,
"minScale": 1024000,
"maxScale": 250,
"units": "esriMeters",
"supportedImageFormatTypes": "PNG32,PNG24,PNG,JPG,DIB,TIFF,EMF,PS,PDF,GIF,SVG,SVGZ,BMP",
"documentInfo": {
"Title": "Ombrage",
"Author": "",
"Comments": " Ombrage<\/SPAN><\/P><\/DIV>",
"Subject": "Ombrage",
"Category": "",
"Version": "2.4.0",
"AntialiasingMode": "Best",
"TextAntialiasingMode": "Force",
"Keywords": "ombrage"
},
"supportsQueryDomains": true,
"capabilities": "Map,Query,Data",
"supportedQueryFormats": "JSON, geoJSON, PBF",
"exportTilesAllowed": false,
"referenceScale": 0.0,
"supportsDatumTransformation": true,
"heightModelInfo": {
"heightModel": "gravity_related_height",
"vertCRS": "NGF_IGN69",
"heightUnit": "meter"
},
"supportsVCSProjection": true,
"archivingInfo": {"supportsHistoricMoment": false},
"supportsClipping": true,
"supportsSpatialFilter": true,
"supportsTimeRelation": true,
"supportsQueryDataElements": true,
"mapUnits": {"uwkid": 9001},
"maxRecordCount": 2000,
"maxImageHeight": 4096,
"maxImageWidth": 4096,
"supportedExtensions": "",
"resampling": false,
"serviceItemId": "0ac5c946254c4f4cb0c98028c1ac4174"
}