{ "currentVersion": 11.3, "cimVersion": "3.3.0", "serviceDescription": "
Orthophoto_2020<\/SPAN><\/P><\/DIV>",
"mapName": "Orthophoto_2023",
"description": " Orthophoto_2020<\/SPAN><\/P><\/DIV>",
"copyrightText": "Métropole Nice Côte d'Azur",
"supportsDynamicLayers": false,
"layers": [
{
"id": 4,
"name": "Orthophoto_2023",
"parentLayerId": -1,
"defaultVisibility": true,
"subLayerIds": null,
"minScale": 0,
"maxScale": 0,
"type": "Feature Layer",
"geometryType": "esriGeometryPolygon",
"supportsDynamicLegends": true
}
],
"tables": [],
"spatialReference": {
"wkid": 102110,
"latestWkid": 2154,
"vcsWkid": 5720,
"latestVcsWkid": 5720,
"xyTolerance": 0.001,
"zTolerance": 0.001,
"mTolerance": 0.001,
"falseX": -35597500,
"falseY": -23641900,
"xyUnits": 10000,
"falseZ": -100000,
"zUnits": 10000,
"falseM": -100000,
"mUnits": 10000
},
"singleFusedMapCache": true,
"tileInfo": {
"rows": 512,
"cols": 512,
"dpi": 96,
"format": "MIXED",
"compressionQuality": 75,
"origin": {
"x": -35597500,
"y": 48953100
},
"spatialReference": {
"wkid": 102110,
"latestWkid": 2154,
"vcsWkid": 5720,
"latestVcsWkid": 5720,
"xyTolerance": 0.001,
"zTolerance": 0.001,
"mTolerance": 0.001,
"falseX": -35597500,
"falseY": -23641900,
"xyUnits": 10000,
"falseZ": -100000,
"zUnits": 10000,
"falseM": -100000,
"mUnits": 10000
},
"lods": [
{
"level": 0,
"resolution": 270.93387520108377,
"scale": 1024000
},
{
"level": 1,
"resolution": 135.46693760054188,
"scale": 512000
},
{
"level": 2,
"resolution": 67.73346880027094,
"scale": 256000
},
{
"level": 3,
"resolution": 33.86673440013547,
"scale": 128000
},
{
"level": 4,
"resolution": 16.933367200067735,
"scale": 64000
},
{
"level": 5,
"resolution": 8.466683600033868,
"scale": 32000
},
{
"level": 6,
"resolution": 4.233341800016934,
"scale": 16000
},
{
"level": 7,
"resolution": 2.116670900008467,
"scale": 8000
},
{
"level": 8,
"resolution": 1.0583354500042335,
"scale": 4000
},
{
"level": 9,
"resolution": 0.5291677250021167,
"scale": 2000
},
{
"level": 10,
"resolution": 0.26458386250105836,
"scale": 1000
},
{
"level": 11,
"resolution": 0.13229193125052918,
"scale": 500
},
{
"level": 12,
"resolution": 0.06614596562526459,
"scale": 250
}
]
},
"storageInfo": {
"storageFormat": "esriMapCacheStorageModeCompactV2",
"packetSize": 128
},
"initialExtent": {
"xmin": 981019.1828685454,
"ymin": 6267956.286101341,
"xmax": 1088791.0778796745,
"ymax": 6380756.271284645,
"spatialReference": {
"wkid": 102110,
"latestWkid": 2154,
"vcsWkid": 5720,
"latestVcsWkid": 5720,
"xyTolerance": 0.001,
"zTolerance": 0.001,
"mTolerance": 0.001,
"falseX": -35597500,
"falseY": -23641900,
"xyUnits": 10000,
"falseZ": -100000,
"zUnits": 10000,
"falseM": -100000,
"mUnits": 10000
}
},
"fullExtent": {
"xmin": 990000,
"ymin": 6261600.021166707,
"xmax": 1080000,
"ymax": 6374400.006350011,
"spatialReference": {
"wkid": 102110,
"latestWkid": 2154,
"vcsWkid": 5720,
"latestVcsWkid": 5720,
"xyTolerance": 0.001,
"zTolerance": 0.001,
"mTolerance": 0.001,
"falseX": -35597500,
"falseY": -23641900,
"xyUnits": 10000,
"falseZ": -100000,
"zUnits": 10000,
"falseM": -100000,
"mUnits": 10000
}
},
"datesInUnknownTimezone": false,
"minScale": 1024000,
"maxScale": 250,
"units": "esriMeters",
"supportedImageFormatTypes": "PNG32,PNG24,PNG,JPG,DIB,TIFF,EMF,PS,PDF,GIF,SVG,SVGZ,BMP",
"documentInfo": {
"Title": "Orthophoto_2020",
"Author": "",
"Comments": " Orthophoto_2020<\/SPAN><\/P><\/DIV>",
"Subject": "Orthophoto_2020",
"Category": "",
"Version": "2.9.0",
"AntialiasingMode": "Best",
"TextAntialiasingMode": "Force",
"Keywords": "orthophoto,ortho,2023"
},
"supportsQueryDomains": true,
"capabilities": "Map",
"supportedQueryFormats": "JSON, geoJSON, PBF",
"exportTilesAllowed": false,
"referenceScale": 0.0,
"supportsDatumTransformation": true,
"floorAwareMapProperties": {
"defaultFloorFilterSettings": {"isEnabled": true}
},
"heightModelInfo": {
"heightModel": "gravity_related_height",
"vertCRS": "NGF_IGN69",
"heightUnit": "meter"
},
"supportsVCSProjection": true,
"archivingInfo": {"supportsHistoricMoment": false},
"supportsClipping": true,
"supportsSpatialFilter": true,
"supportsTimeRelation": true,
"supportsQueryDataElements": true,
"mapUnits": {"uwkid": 9001},
"maxRecordCount": 2000,
"maxImageHeight": 4096,
"maxImageWidth": 4096,
"supportedExtensions": "",
"resampling": false,
"serviceItemId": "57dfd6d906c047cb8a3e3d7a69674082"
}