{ "currentVersion": 11.3, "cimVersion": "3.3.0", "serviceDescription": "
Potentiel_solaire<\/SPAN><\/P><\/DIV>",
"mapName": "Potentiel_Solaire",
"description": " Potentiel_solaire<\/SPAN><\/P><\/DIV>",
"copyrightText": "",
"supportsDynamicLayers": false,
"layers": [
{
"id": 0,
"name": "Potentiel solaire",
"parentLayerId": -1,
"defaultVisibility": true,
"subLayerIds": null,
"minScale": 0,
"maxScale": 0,
"type": "Feature Layer",
"geometryType": "esriGeometryPoint",
"supportsDynamicLegends": true
}
],
"tables": [],
"spatialReference": {
"wkid": 102110,
"latestWkid": 2154,
"vcsWkid": 5720,
"latestVcsWkid": 5720,
"xyTolerance": 0.001,
"zTolerance": 0.001,
"mTolerance": 0.001,
"falseX": -35597500,
"falseY": -23641900,
"xyUnits": 10000,
"falseZ": -100000,
"zUnits": 10000,
"falseM": -100000,
"mUnits": 10000
},
"singleFusedMapCache": true,
"tileInfo": {
"rows": 256,
"cols": 256,
"dpi": 96,
"format": "MIXED",
"compressionQuality": 75,
"origin": {
"x": -35597500,
"y": 48953100
},
"spatialReference": {
"wkid": 102110,
"latestWkid": 2154,
"xyTolerance": 0.001,
"zTolerance": 2,
"mTolerance": 2,
"falseX": -35597500,
"falseY": -23641900,
"xyUnits": 1.2407465052332792E8,
"falseZ": 0,
"zUnits": 10000,
"falseM": -100000,
"mUnits": 10000
},
"lods": [
{
"level": 0,
"resolution": 132.2919312505292,
"scale": 500000
},
{
"level": 1,
"resolution": 66.1459656252646,
"scale": 250000
},
{
"level": 2,
"resolution": 26.458386250105836,
"scale": 100000
},
{
"level": 3,
"resolution": 13.229193125052918,
"scale": 50000
},
{
"level": 4,
"resolution": 5.291677250021167,
"scale": 20000
},
{
"level": 5,
"resolution": 2.6458386250105836,
"scale": 10000
},
{
"level": 6,
"resolution": 1.3229193125052918,
"scale": 5000
},
{
"level": 7,
"resolution": 0.5291677250021167,
"scale": 2000
},
{
"level": 8,
"resolution": 0.26458386250105836,
"scale": 1000
},
{
"level": 9,
"resolution": 0.13229193125052918,
"scale": 500
},
{
"level": 10,
"resolution": 0.05291677250021167,
"scale": 200
}
]
},
"storageInfo": {
"storageFormat": "esriMapCacheStorageModeCompactV2",
"packetSize": 128
},
"initialExtent": {
"xmin": 986806.2237174095,
"ymin": 6261600,
"xmax": 1083193.7762825903,
"ymax": 6374400,
"spatialReference": {
"wkid": 102110,
"latestWkid": 2154,
"vcsWkid": 5720,
"latestVcsWkid": 5720,
"xyTolerance": 0.001,
"zTolerance": 0.001,
"mTolerance": 0.001,
"falseX": -35597500,
"falseY": -23641900,
"xyUnits": 10000,
"falseZ": -100000,
"zUnits": 10000,
"falseM": -100000,
"mUnits": 10000
}
},
"fullExtent": {
"xmin": 990000,
"ymin": 6261600,
"xmax": 1080000,
"ymax": 6374400,
"spatialReference": {
"wkid": 102110,
"latestWkid": 2154,
"vcsWkid": 5720,
"latestVcsWkid": 5720,
"xyTolerance": 0.001,
"zTolerance": 0.001,
"mTolerance": 0.001,
"falseX": -35597500,
"falseY": -23641900,
"xyUnits": 10000,
"falseZ": -100000,
"zUnits": 10000,
"falseM": -100000,
"mUnits": 10000
}
},
"datesInUnknownTimezone": false,
"minScale": 500000,
"maxScale": 200,
"units": "esriMeters",
"supportedImageFormatTypes": "PNG32,PNG24,PNG,JPG,DIB,TIFF,EMF,PS,PDF,GIF,SVG,SVGZ,BMP",
"documentInfo": {
"Title": "Potentiel_solaire",
"Author": "",
"Comments": " Potentiel_solaire<\/SPAN><\/P><\/DIV>",
"Subject": "Potentiel_solaire",
"Category": "",
"Version": "2.9.0",
"AntialiasingMode": "Best",
"TextAntialiasingMode": "Force",
"Keywords": "Potentiel_solaire"
},
"supportsQueryDomains": true,
"capabilities": "Map,Query,Data",
"supportedQueryFormats": "JSON, geoJSON, PBF",
"exportTilesAllowed": false,
"referenceScale": 0.0,
"supportsDatumTransformation": true,
"floorAwareMapProperties": {
"defaultFloorFilterSettings": {"isEnabled": true}
},
"heightModelInfo": {
"heightModel": "gravity_related_height",
"vertCRS": "NGF_IGN69",
"heightUnit": "meter"
},
"supportsVCSProjection": true,
"archivingInfo": {"supportsHistoricMoment": false},
"supportsClipping": true,
"supportsSpatialFilter": true,
"supportsTimeRelation": true,
"supportsQueryDataElements": true,
"mapUnits": {"uwkid": 9001},
"maxRecordCount": 2000,
"maxImageHeight": 4096,
"maxImageWidth": 4096,
"supportedExtensions": "",
"resampling": false,
"serviceItemId": "9f8de0b6c975469ebba974ef34025e5f"
}